BEGIN:VCALENDAR
VERSION:2.0
PRODID:-//Sedona Philosophy - ECPv6.15.20//NONSGML v1.0//EN
CALSCALE:GREGORIAN
METHOD:PUBLISH
X-ORIGINAL-URL:https://sedonaphilosophy.com
X-WR-CALDESC:Events for Sedona Philosophy
REFRESH-INTERVAL;VALUE=DURATION:PT1H
X-Robots-Tag:noindex
X-PUBLISHED-TTL:PT1H
BEGIN:VTIMEZONE
TZID:America/Phoenix
BEGIN:STANDARD
TZOFFSETFROM:-0700
TZOFFSETTO:-0700
TZNAME:MST
DTSTART:20220101T000000
END:STANDARD
END:VTIMEZONE
BEGIN:VEVENT
DTSTART;VALUE=DATE:20231013
DTEND;VALUE=DATE:20231014
DTSTAMP:20260420T141148
CREATED:20230927T034145Z
LAST-MODIFIED:20230927T034145Z
UID:13973-1697155200-1697241599@sedonaphilosophy.com
SUMMARY:No hike today
DESCRIPTION:
URL:https://sedonaphilosophy.com/event/no-hike-today/
END:VEVENT
BEGIN:VEVENT
DTSTART;TZID=America/Phoenix:20231007T073000
DTEND;TZID=America/Phoenix:20231007T213000
DTSTAMP:20260420T141148
CREATED:20230927T033852Z
LAST-MODIFIED:20230927T170656Z
UID:13971-1696663800-1696714200@sedonaphilosophy.com
SUMMARY:Sedona History and Vortex Hike Saturday 10/7
DESCRIPTION:RSVP by 9 pm the night prior to reserve your spot. \nPlease enable JavaScript in your browser to complete this form.Please enable JavaScript in your browser to complete this form.Name *FirstLastEmail *Guests in your party *1 person/$692 people/$1383 people/$2074 people/$2765 people/$3456 people/$414This amount will be added to your El Portal room charge after the hike is complete.\nIf you prefer a different payment method let us know at the start of the hike.\nComment or MessageSubmit
URL:https://sedonaphilosophy.com/event/sedona-history-and-vortex-hike-10-7/
LOCATION:El Portal\, 95 Portal Lane\, Sedona\, 86336\, United States
END:VEVENT
BEGIN:VEVENT
DTSTART;TZID=America/Phoenix:20231006T073000
DTEND;TZID=America/Phoenix:20231006T213000
DTSTAMP:20260420T141148
CREATED:20230927T033051Z
LAST-MODIFIED:20230927T170613Z
UID:13959-1696577400-1696627800@sedonaphilosophy.com
SUMMARY:Sedona History and Vortex Hike Friday 10/6
DESCRIPTION:RSVP by 9 pm the night prior to reserve your spot. \nPlease enable JavaScript in your browser to complete this form.Please enable JavaScript in your browser to complete this form.Name *FirstLastEmail *Guests in your party *1 person/$692 people/$1383 people/$2074 people/$2765 people/$3456 people/$414This amount will be added to your El Portal room charge after the hike is complete.\nIf you prefer a different payment method let us know at the start of the hike.\nComment or MessageSubmit
URL:https://sedonaphilosophy.com/event/sedona-history-and-vortex-hike-10-6/
LOCATION:El Portal\, 95 Portal Lane\, Sedona\, 86336\, United States
END:VEVENT
BEGIN:VEVENT
DTSTART;TZID=America/Phoenix:20230930T073000
DTEND;TZID=America/Phoenix:20230930T093000
DTSTAMP:20260420T141148
CREATED:20230926T220117Z
LAST-MODIFIED:20230927T035619Z
UID:13921-1696059000-1696066200@sedonaphilosophy.com
SUMMARY:Sedona History and Vortex Hike Saturday 9/30
DESCRIPTION:RSVP by 9 pm the night prior to reserve your spot. \nPlease enable JavaScript in your browser to complete this form.Please enable JavaScript in your browser to complete this form.Name *FirstLastEmail *Guests in your party *1 person/$692 people/$1383 people/$2074 people/$2765 people/$3456 people/$414This amount will be added to your El Portal room charge after the hike is complete.\nIf you prefer a different payment method let us know at the start of the hike.\nComment or MessageSubmit
URL:https://sedonaphilosophy.com/event/sedona-history-and-vortex-hike-9-30/
LOCATION:El Portal\, 95 Portal Lane\, Sedona\, 86336\, United States
END:VEVENT
END:VCALENDAR